BEGIN:VCALENDAR
VERSION:2.0
PRODID:-//Tukios.com/
BEGIN:VEVENT
UID:918eb1c7-f124-400b-9ce6-9fdd1b540d60@www.jacobsfuneralhomeir.com
DTSTAMP:20260422T172733Z
DTSTART:20260508T190000Z
DTEND:20260508T203000Z
SUMMARY:Visitation
DESCRIPTION:
URL:https://www.jacobsfuneralhomeir.com/obituaries/frank-zanon
LOCATION: 405 W Cayuga St  Iron River MI 49935
GEO:46.0930599;-88.642821
END:VEVENT
END:VCALENDAR