BEGIN:VCALENDAR
VERSION:2.0
PRODID:-//Tukios.com/
BEGIN:VEVENT
UID:ba32e92f-41c2-4b04-b4be-e3015ab3fd03@www.jacobsfuneralhomeir.com
DTSTAMP:20260422T173702Z
DTSTART:20260508T203000Z
DTEND:20260508T213000Z
SUMMARY:Memorial Service
DESCRIPTION:
URL:https://www.jacobsfuneralhomeir.com/obituaries/frank-zanon
LOCATION: 405 W Cayuga St  Iron River MI 49935
GEO:46.0930599;-88.642821
END:VEVENT
END:VCALENDAR