BEGIN:VCALENDAR
VERSION:2.0
PRODID:-//Tukios.com/
BEGIN:VEVENT
UID:afe7bcb1-103d-4a9e-8d27-79cfe1920eed@www.jacobsfuneralhomeir.com
DTSTAMP:20260424T193353Z
DTSTART:20260501T200000Z
DTEND:20260501T210000Z
SUMMARY:Funeral Service
DESCRIPTION:
URL:https://www.jacobsfuneralhomeir.com/obituaries/james-parker
LOCATION: 405 W Cayuga St  Iron River MI 49935
GEO:46.0930599;-88.642821
END:VEVENT
END:VCALENDAR