BEGIN:VCALENDAR
VERSION:2.0
PRODID:-//Tukios.com/
BEGIN:VEVENT
UID:c8c6bbf1-9820-43e9-a286-07eff58f512a@www.jacobsfuneralhomeir.com
DTSTAMP:20260419T212021Z
DTSTART:20260502T173000Z
DTEND:20260502T183000Z
SUMMARY:Celebration of Life
DESCRIPTION:
URL:https://www.jacobsfuneralhomeir.com/obituaries/janet-tilkens
LOCATION:Wolf River Town Hall N4393 Blue Goose Drive  White Lake WI 54491
GEO:45.1860843;-88.7305376
END:VEVENT
END:VCALENDAR